
BEGIN:VCALENDAR
VERSION:2.0
PRODID:-//Théâtre de l&#039;Ange - ECPv6.11.2//NONSGML v1.0//EN
CALSCALE:GREGORIAN
METHOD:PUBLISH
X-ORIGINAL-URL:https://theatredelange.com
X-WR-CALDESC:Évènements pour Théâtre de l&#039;Ange
REFRESH-INTERVAL;VALUE=DURATION:PT1H
X-Robots-Tag:noindex
X-PUBLISHED-TTL:PT1H
BEGIN:VTIMEZONE
TZID:UTC
BEGIN:STANDARD
TZOFFSETFROM:+0000
TZOFFSETTO:+0000
TZNAME:UTC
DTSTART:20260101T000000
END:STANDARD
END:VTIMEZONE
BEGIN:VEVENT
DTSTART;TZID=UTC:20260704T184000
DTEND;TZID=UTC:20260725T195000
DTSTAMP:20260421T110755
CREATED:20260417T121833Z
LAST-MODIFIED:20260417T122427Z
UID:8453-1783190400-1785009000@theatredelange.com
SUMMARY:Hier a duré 4 jours 18:40
DESCRIPTION:Mardi 33 janvier 17:25				\n				\n				\n				\n									2032 : Pour relancer l’économie\, le gouvernement impose une réforme brillante : la mise en vigueur du mois à 5 semaines\, et fait du chômage une situation illégale.								\n				\n				\n				\n									Nino\, chômeur longue durée\, devient soudain l’homme à abattre. Il trouve la planque idéale : Life Development\, une agence qui vend des choses et des trucs un peu flous dont seuls les employés comprennent vraiment l’utilité. Va-t-il réussir le brief du nouveau déshumidificateur d’eau pluviale ? Est-ce que la SSSDCDIBNCMMET lui mettra la main dessus ? Est-ce que hier c’est demain ? Tant de questions qui trouveront sans aucun doute des réponses approximatives dans MARDI 33 JANVIER. Relâches les 8\, 15 et 22 juillet 2026. 								\n				\n				\n				\n					Réserver				\n				\n					\n		\n					\n		\n				\n						\n					\n			\n						\n						\n					\n			\n						\n				\n					Auteur				\n				\n				\n				\n									Jules Neyvoz 								\n				\n				\n				\n					Metteur en scène				\n				\n				\n				\n									Flavien Motte 								\n				\n				\n				\n					Comédiens				\n				\n				\n				\n									Morgan HerrouinGeoffrey MarguinAlice MassonatMarie MigeotJules NeyvozAlice VoisinEmilio Zurano 								\n				\n				\n				\n					Salle				\n				\n				\n				\n									L’Ange 								\n				\n					\n		\n					\n		\n					\n		\n				\n			\n						\n						\n					\n			\n						\n				\n					Extrait				\n				\n					\n		\n					\n		\n				\n						\n					\n			\n						\n				\n					Avis				\n				\n					\n		\n					\n		\n					\n		\n					\n		\n				\n						\n					\n			\n						\n				\n							\n						\n				\n				\n				\n					Réservation 04 56 96 39 46
URL:https://theatredelange.com/spectacle/hier-a-dure-4-jours-1840/
CATEGORIES:Ligne5
ATTACH;FMTTYPE=image/jpeg:https://theatredelange.com/wp-content/uploads/2026/04/Hier-a-dure-4-jours-A4-1-1.jpg
END:VEVENT
BEGIN:VEVENT
DTSTART;TZID=UTC:20260704T193000
DTEND;TZID=UTC:20260725T203000
DTSTAMP:20260421T110755
CREATED:20260416T173955Z
LAST-MODIFIED:20260416T174553Z
UID:8177-1783193400-1785011400@theatredelange.com
SUMMARY:Inconfortable 19:30
DESCRIPTION:Mardi 33 janvier 17:25				\n				\n				\n				\n									2032 : Pour relancer l’économie\, le gouvernement impose une réforme brillante : la mise en vigueur du mois à 5 semaines\, et fait du chômage une situation illégale.								\n				\n				\n				\n									Nino\, chômeur longue durée\, devient soudain l’homme à abattre. Il trouve la planque idéale : Life Development\, une agence qui vend des choses et des trucs un peu flous dont seuls les employés comprennent vraiment l’utilité. Va-t-il réussir le brief du nouveau déshumidificateur d’eau pluviale ? Est-ce que la SSSDCDIBNCMMET lui mettra la main dessus ? Est-ce que hier c’est demain ? Tant de questions qui trouveront sans aucun doute des réponses approximatives dans MARDI 33 JANVIER. Relâches les 8\, 15 et 22 juillet 2026. 								\n				\n				\n				\n					Réserver				\n				\n					\n		\n					\n		\n				\n						\n					\n			\n						\n						\n					\n			\n						\n				\n					Auteur				\n				\n				\n				\n									Jules Neyvoz 								\n				\n				\n				\n					Metteur en scène				\n				\n				\n				\n									Flavien Motte 								\n				\n				\n				\n					Comédiens				\n				\n				\n				\n									Morgan HerrouinGeoffrey MarguinAlice MassonatMarie MigeotJules NeyvozAlice VoisinEmilio Zurano 								\n				\n				\n				\n					Salle				\n				\n				\n				\n									L’Ange 								\n				\n					\n		\n					\n		\n					\n		\n				\n			\n						\n						\n					\n			\n						\n				\n					Extrait				\n				\n					\n		\n					\n		\n				\n						\n					\n			\n						\n				\n					Avis				\n				\n					\n		\n					\n		\n					\n		\n					\n		\n				\n						\n					\n			\n						\n				\n							\n						\n				\n				\n				\n					Réservation 04 56 96 39 46
URL:https://theatredelange.com/spectacle/inconfortable-1930/
CATEGORIES:Ligne5
ATTACH;FMTTYPE=image/jpeg:https://theatredelange.com/wp-content/uploads/2026/04/AFFICHE-INCONFORTABLE.jpeg
END:VEVENT
BEGIN:VEVENT
DTSTART;TZID=UTC:20260704T201000
DTEND;TZID=UTC:20260725T211500
DTSTAMP:20260421T110755
CREATED:20260416T185257Z
LAST-MODIFIED:20260416T185353Z
UID:8419-1783195800-1785014100@theatredelange.com
SUMMARY:Les Femmes ont toujours raison 20:10
DESCRIPTION:Mardi 33 janvier 17:25				\n				\n				\n				\n									2032 : Pour relancer l’économie\, le gouvernement impose une réforme brillante : la mise en vigueur du mois à 5 semaines\, et fait du chômage une situation illégale.								\n				\n				\n				\n									Nino\, chômeur longue durée\, devient soudain l’homme à abattre. Il trouve la planque idéale : Life Development\, une agence qui vend des choses et des trucs un peu flous dont seuls les employés comprennent vraiment l’utilité. Va-t-il réussir le brief du nouveau déshumidificateur d’eau pluviale ? Est-ce que la SSSDCDIBNCMMET lui mettra la main dessus ? Est-ce que hier c’est demain ? Tant de questions qui trouveront sans aucun doute des réponses approximatives dans MARDI 33 JANVIER. Relâches les 8\, 15 et 22 juillet 2026. 								\n				\n				\n				\n					Réserver				\n				\n					\n		\n					\n		\n				\n						\n					\n			\n						\n						\n					\n			\n						\n				\n					Auteur				\n				\n				\n				\n									Jules Neyvoz 								\n				\n				\n				\n					Metteur en scène				\n				\n				\n				\n									Flavien Motte 								\n				\n				\n				\n					Comédiens				\n				\n				\n				\n									Morgan HerrouinGeoffrey MarguinAlice MassonatMarie MigeotJules NeyvozAlice VoisinEmilio Zurano 								\n				\n				\n				\n					Salle				\n				\n				\n				\n									L’Ange 								\n				\n					\n		\n					\n		\n					\n		\n				\n			\n						\n						\n					\n			\n						\n				\n					Extrait				\n				\n					\n		\n					\n		\n				\n						\n					\n			\n						\n				\n					Avis				\n				\n					\n		\n					\n		\n					\n		\n					\n		\n				\n						\n					\n			\n						\n				\n							\n						\n				\n				\n				\n					Réservation 04 56 96 39 46
URL:https://theatredelange.com/spectacle/les-femmes-ont-toujours-raison-2010/
CATEGORIES:Ligne5
ATTACH;FMTTYPE=image/jpeg:https://theatredelange.com/wp-content/uploads/2021/06/les-femmes-ont-toujours-raison.jpg
END:VEVENT
BEGIN:VEVENT
DTSTART;TZID=UTC:20260704T204500
DTEND;TZID=UTC:20260725T214500
DTSTAMP:20260421T110755
CREATED:20260416T180646Z
LAST-MODIFIED:20260416T182106Z
UID:8413-1783197900-1785015900@theatredelange.com
SUMMARY:Sans Repère 20:45
DESCRIPTION:Mardi 33 janvier 17:25				\n				\n				\n				\n									2032 : Pour relancer l’économie\, le gouvernement impose une réforme brillante : la mise en vigueur du mois à 5 semaines\, et fait du chômage une situation illégale.								\n				\n				\n				\n									Nino\, chômeur longue durée\, devient soudain l’homme à abattre. Il trouve la planque idéale : Life Development\, une agence qui vend des choses et des trucs un peu flous dont seuls les employés comprennent vraiment l’utilité. Va-t-il réussir le brief du nouveau déshumidificateur d’eau pluviale ? Est-ce que la SSSDCDIBNCMMET lui mettra la main dessus ? Est-ce que hier c’est demain ? Tant de questions qui trouveront sans aucun doute des réponses approximatives dans MARDI 33 JANVIER. Relâches les 8\, 15 et 22 juillet 2026. 								\n				\n				\n				\n					Réserver				\n				\n					\n		\n					\n		\n				\n						\n					\n			\n						\n						\n					\n			\n						\n				\n					Auteur				\n				\n				\n				\n									Jules Neyvoz 								\n				\n				\n				\n					Metteur en scène				\n				\n				\n				\n									Flavien Motte 								\n				\n				\n				\n					Comédiens				\n				\n				\n				\n									Morgan HerrouinGeoffrey MarguinAlice MassonatMarie MigeotJules NeyvozAlice VoisinEmilio Zurano 								\n				\n				\n				\n					Salle				\n				\n				\n				\n									L’Ange 								\n				\n					\n		\n					\n		\n					\n		\n				\n			\n						\n						\n					\n			\n						\n				\n					Extrait				\n				\n					\n		\n					\n		\n				\n						\n					\n			\n						\n				\n					Avis				\n				\n					\n		\n					\n		\n					\n		\n					\n		\n				\n						\n					\n			\n						\n				\n							\n						\n				\n				\n				\n					Réservation 04 56 96 39 46
URL:https://theatredelange.com/spectacle/sans-repere-2045/
CATEGORIES:Ligne5
ATTACH;FMTTYPE=image/jpeg:https://theatredelange.com/wp-content/uploads/2026/04/AFFICHE-SANS-REPERE.jpeg
END:VEVENT
BEGIN:VEVENT
DTSTART;TZID=UTC:20260718T121500
DTEND;TZID=UTC:20260723T131500
DTSTAMP:20260421T110755
CREATED:20260415T155944Z
LAST-MODIFIED:20260415T160533Z
UID:8382-1784376900-1784812500@theatredelange.com
SUMMARY:Eddy Piof : la légende 12:15
DESCRIPTION:Mardi 33 janvier 17:25				\n				\n				\n				\n									2032 : Pour relancer l’économie\, le gouvernement impose une réforme brillante : la mise en vigueur du mois à 5 semaines\, et fait du chômage une situation illégale.								\n				\n				\n				\n									Nino\, chômeur longue durée\, devient soudain l’homme à abattre. Il trouve la planque idéale : Life Development\, une agence qui vend des choses et des trucs un peu flous dont seuls les employés comprennent vraiment l’utilité. Va-t-il réussir le brief du nouveau déshumidificateur d’eau pluviale ? Est-ce que la SSSDCDIBNCMMET lui mettra la main dessus ? Est-ce que hier c’est demain ? Tant de questions qui trouveront sans aucun doute des réponses approximatives dans MARDI 33 JANVIER. Relâches les 8\, 15 et 22 juillet 2026. 								\n				\n				\n				\n					Réserver				\n				\n					\n		\n					\n		\n				\n						\n					\n			\n						\n						\n					\n			\n						\n				\n					Auteur				\n				\n				\n				\n									Jules Neyvoz 								\n				\n				\n				\n					Metteur en scène				\n				\n				\n				\n									Flavien Motte 								\n				\n				\n				\n					Comédiens				\n				\n				\n				\n									Morgan HerrouinGeoffrey MarguinAlice MassonatMarie MigeotJules NeyvozAlice VoisinEmilio Zurano 								\n				\n				\n				\n					Salle				\n				\n				\n				\n									L’Ange 								\n				\n					\n		\n					\n		\n					\n		\n				\n			\n						\n						\n					\n			\n						\n				\n					Extrait				\n				\n					\n		\n					\n		\n				\n						\n					\n			\n						\n				\n					Avis				\n				\n					\n		\n					\n		\n					\n		\n					\n		\n				\n						\n					\n			\n						\n				\n							\n						\n				\n				\n				\n					Réservation 04 56 96 39 46
URL:https://theatredelange.com/spectacle/eddy-piof-la-legende-1215/
CATEGORIES:Ligne2
ATTACH;FMTTYPE=image/jpeg:https://theatredelange.com/wp-content/uploads/2026/04/7083b383-b897-47c0-9453-ae1971c87011.jpeg
END:VEVENT
BEGIN:VEVENT
DTSTART;TZID=UTC:20260724T121500
DTEND;TZID=UTC:20260725T131500
DTSTAMP:20260421T110755
CREATED:20260415T161422Z
LAST-MODIFIED:20260415T162310Z
UID:8383-1784895300-1784985300@theatredelange.com
SUMMARY:L'enfant qui comptait les étoiles 12:15
DESCRIPTION:Mardi 33 janvier 17:25				\n				\n				\n				\n									2032 : Pour relancer l’économie\, le gouvernement impose une réforme brillante : la mise en vigueur du mois à 5 semaines\, et fait du chômage une situation illégale.								\n				\n				\n				\n									Nino\, chômeur longue durée\, devient soudain l’homme à abattre. Il trouve la planque idéale : Life Development\, une agence qui vend des choses et des trucs un peu flous dont seuls les employés comprennent vraiment l’utilité. Va-t-il réussir le brief du nouveau déshumidificateur d’eau pluviale ? Est-ce que la SSSDCDIBNCMMET lui mettra la main dessus ? Est-ce que hier c’est demain ? Tant de questions qui trouveront sans aucun doute des réponses approximatives dans MARDI 33 JANVIER. Relâches les 8\, 15 et 22 juillet 2026. 								\n				\n				\n				\n					Réserver				\n				\n					\n		\n					\n		\n				\n						\n					\n			\n						\n						\n					\n			\n						\n				\n					Auteur				\n				\n				\n				\n									Jules Neyvoz 								\n				\n				\n				\n					Metteur en scène				\n				\n				\n				\n									Flavien Motte 								\n				\n				\n				\n					Comédiens				\n				\n				\n				\n									Morgan HerrouinGeoffrey MarguinAlice MassonatMarie MigeotJules NeyvozAlice VoisinEmilio Zurano 								\n				\n				\n				\n					Salle				\n				\n				\n				\n									L’Ange 								\n				\n					\n		\n					\n		\n					\n		\n				\n			\n						\n						\n					\n			\n						\n				\n					Extrait				\n				\n					\n		\n					\n		\n				\n						\n					\n			\n						\n				\n					Avis				\n				\n					\n		\n					\n		\n					\n		\n					\n		\n				\n						\n					\n			\n						\n				\n							\n						\n				\n				\n				\n					Réservation 04 56 96 39 46
URL:https://theatredelange.com/spectacle/lenfant-qui-comptait-les-etoiles-1215/
CATEGORIES:Ligne2
ATTACH;FMTTYPE=image/jpeg:https://theatredelange.com/wp-content/uploads/2026/04/Affiche-1.jpg
END:VEVENT
END:VCALENDAR